View In:
ArcGIS JavaScript
ArcGIS Online Map Viewer
ArcGIS Earth
Service Description: Fotografía satelital obtenida de la platforma SAS planet el 24 de marzo del 2021.
Se realizó la descarga a partir de la fuente Bing Maps Satelite.
Tamaño de celda: 0.2985
Tamaño sin comprimir 24.37 GB
Sistema de coordenadas geográficas GCS_WGS_1984 Major Auxiliary_Shere
Sistema de coordenas proyectadas WGS_84_Web_Mercator_deprecated
Name: Mapas_Base/VarablancaSASPlanet2020
Description: Fotografía satelital obtenida de la platforma SAS planet el 24 de marzo del 2021.
Se realizó la descarga a partir de la fuente Bing Maps Satelite.
Tamaño de celda: 0.2985
Tamaño sin comprimir 24.37 GB
Sistema de coordenadas geográficas GCS_WGS_1984 Major Auxiliary_Shere
Sistema de coordenas proyectadas WGS_84_Web_Mercator_deprecated
Single Fused Map Cache: false
Extent:
XMin: -9369001.361747552
YMin: 1125186.9454308818
XMax: -9340914.33683845
YMax: 1152868.4957915016
Spatial Reference: 0
(0)
LatestVCSWkid(0)
Initial Extent:
XMin: -9369001.361747552
YMin: 1125186.9454308818
XMax: -9340914.33683845
YMax: 1152868.4957915016
Spatial Reference: 0
(0)
LatestVCSWkid(0)
Full Extent:
XMin: -9369001.361747552
YMin: 1125186.9454308818
XMax: -9340914.33683845
YMax: 1152868.4957915016
Spatial Reference: 0
(0)
LatestVCSWkid(0)
Pixel Size X: 0.29858214173896996
Pixel Size Y: 0.2985821417389687
Band Count: 3
Pixel Type: U8
RasterFunction Infos: {"rasterFunctionInfos": [{
"name": "None",
"description": "",
"help": ""
}]}
Mensuration Capabilities: Basic
Inspection Capabilities:
Has Histograms: true
Has Colormap: false
Has Multi Dimensions : false
Rendering Rule:
Min Scale: 0
Max Scale: 0
Resampling: false
Copyright Text:
Service Data Type: esriImageServiceDataTypeRGB
Min Values: 0, 0, 0
Max Values: 255, 255, 255
Mean Values: 35.66720752088348, 52.99495965560608, 29.561890663777888
Standard Deviation Values: 24.5249336320413, 26.51281049090596, 22.135496358060788
Object ID Field:
Fields:
None
Default Mosaic Method: Center
Allowed Mosaic Methods:
SortField:
SortValue: null
Mosaic Operator: First
Default Compression Quality: 75
Default Resampling Method: Bilinear
Max Record Count: null
Max Image Height: 4100
Max Image Width: 15000
Max Download Image Count: null
Max Mosaic Image Count: null
Allow Raster Function: true
Allow Copy: true
Allow Analysis: true
Allow Compute TiePoints: false
Supports Statistics: false
Supports Advanced Queries: false
Use StandardizedQueries: true
Raster Type Infos:
Name: Raster Dataset
Description: Supports all ArcGIS Raster Datasets
Help:
Has Raster Attribute Table: false
Edit Fields Info: null
Ownership Based AccessControl For Rasters: null
Child Resources:
Info
Histograms
Statistics
Key Properties
Legend
Raster Function Infos
Supported Operations:
Export Image
Identify
Measure
Compute Histograms
Compute Statistics Histograms
Get Samples
Compute Class Statistics
Query Boundary
Compute Pixel Location
Compute Angles
Validate
Project