{
 "currentVersion": 11.3,
 "serviceDescription": "Fotografía satelital obtenida de la platforma SAS planet el 24 de marzo del 2021.\nSe realizó la descarga a partir de la fuente Bing Maps Satelite.\n\nTamaño de celda: 0.2985\nTamaño sin comprimir 24.37 GB\nSistema de coordenadas geográficas GCS_WGS_1984 Major Auxiliary_Shere\nSistema de coordenas proyectadas WGS_84_Web_Mercator_deprecated",
 "name": "Mapas_Base/VarablancaSASPlanet2020",
 "description": "Fotografía satelital obtenida de la platforma SAS planet el 24 de marzo del 2021.\nSe realizó la descarga a partir de la fuente Bing Maps Satelite.\n\nTamaño de celda: 0.2985\nTamaño sin comprimir 24.37 GB\nSistema de coordenadas geográficas GCS_WGS_1984 Major Auxiliary_Shere\nSistema de coordenas proyectadas WGS_84_Web_Mercator_deprecated",
 "extent": {
  "xmin": -9369001.361747552,
  "ymin": 1125186.9454308818,
  "xmax": -9340914.33683845,
  "ymax": 1152868.4957915016,
  "spatialReference": {
   "wkt2": "PROJCRS[\"WGS_1984_Web_Mercator_deprecated\",BASEGEOGCRS[\"GCS_WGS_1984_Major_Auxiliary_Sphere\",DATUM[\"D_WGS_1984_Major_Auxiliary_Sphere\",ELLIPSOID[\"WGS_1984_Major_Auxiliary_Sphere\",6378137.0,0.0,LENGTHUNIT[\"Meter\",1.0]]],PRIMEM[\"Greenwich\",0.0,ANGLEUNIT[\"Degree\",0.0174532925199433]],CS[ellipsoidal,2],ANGLEUNIT[\"Degree\",0.0174532925199433]],CONVERSION[\"Mercator\",METHOD[\"Mercator\"],PARAMETER[\"false_easting\",0.0,LENGTHUNIT[\"Meter\",1.0]],PARAMETER[\"false_northing\",0.0,LENGTHUNIT[\"Meter\",1.0]],PARAMETER[\"central_meridian\",0.0,ANGLEUNIT[\"Degree\",0.0174532925199433]],PARAMETER[\"standard_parallel_1\",0.0,ANGLEUNIT[\"Degree\",0.0174532925199433]]],CS[Cartesian,2],AXIS[\"Easting (X)\",east,ORDER[1]],AXIS[\"Northing (Y)\",north,ORDER[2]],LENGTHUNIT[\"Meter\",1.0]]",
   "wkt": "PROJCS[\"WGS_1984_Web_Mercator_deprecated\",GEOGCS[\"GCS_WGS_1984_Major_Auxiliary_Sphere\",DATUM[\"D_WGS_1984_Major_Auxiliary_Sphere\",SPHEROID[\"WGS_1984_Major_Auxiliary_Sphere\",6378137.0,0.0]],PRIMEM[\"Greenwich\",0.0],UNIT[\"Degree\",0.0174532925199433]],PROJECTION[\"Mercator\"],PARAMETER[\"false_easting\",0.0],PARAMETER[\"false_northing\",0.0],PARAMETER[\"central_meridian\",0.0],PARAMETER[\"standard_parallel_1\",0.0],UNIT[\"Meter\",1.0]]"
  }
 },
 "initialExtent": {
  "xmin": -9369001.361747552,
  "ymin": 1125186.9454308818,
  "xmax": -9340914.33683845,
  "ymax": 1152868.4957915016,
  "spatialReference": {
   "wkt2": "PROJCRS[\"WGS_1984_Web_Mercator_deprecated\",BASEGEOGCRS[\"GCS_WGS_1984_Major_Auxiliary_Sphere\",DATUM[\"D_WGS_1984_Major_Auxiliary_Sphere\",ELLIPSOID[\"WGS_1984_Major_Auxiliary_Sphere\",6378137.0,0.0,LENGTHUNIT[\"Meter\",1.0]]],PRIMEM[\"Greenwich\",0.0,ANGLEUNIT[\"Degree\",0.0174532925199433]],CS[ellipsoidal,2],ANGLEUNIT[\"Degree\",0.0174532925199433]],CONVERSION[\"Mercator\",METHOD[\"Mercator\"],PARAMETER[\"false_easting\",0.0,LENGTHUNIT[\"Meter\",1.0]],PARAMETER[\"false_northing\",0.0,LENGTHUNIT[\"Meter\",1.0]],PARAMETER[\"central_meridian\",0.0,ANGLEUNIT[\"Degree\",0.0174532925199433]],PARAMETER[\"standard_parallel_1\",0.0,ANGLEUNIT[\"Degree\",0.0174532925199433]]],CS[Cartesian,2],AXIS[\"Easting (X)\",east,ORDER[1]],AXIS[\"Northing (Y)\",north,ORDER[2]],LENGTHUNIT[\"Meter\",1.0]]",
   "wkt": "PROJCS[\"WGS_1984_Web_Mercator_deprecated\",GEOGCS[\"GCS_WGS_1984_Major_Auxiliary_Sphere\",DATUM[\"D_WGS_1984_Major_Auxiliary_Sphere\",SPHEROID[\"WGS_1984_Major_Auxiliary_Sphere\",6378137.0,0.0]],PRIMEM[\"Greenwich\",0.0],UNIT[\"Degree\",0.0174532925199433]],PROJECTION[\"Mercator\"],PARAMETER[\"false_easting\",0.0],PARAMETER[\"false_northing\",0.0],PARAMETER[\"central_meridian\",0.0],PARAMETER[\"standard_parallel_1\",0.0],UNIT[\"Meter\",1.0]]"
  }
 },
 "fullExtent": {
  "xmin": -9369001.361747552,
  "ymin": 1125186.9454308818,
  "xmax": -9340914.33683845,
  "ymax": 1152868.4957915016,
  "spatialReference": {
   "wkt2": "PROJCRS[\"WGS_1984_Web_Mercator_deprecated\",BASEGEOGCRS[\"GCS_WGS_1984_Major_Auxiliary_Sphere\",DATUM[\"D_WGS_1984_Major_Auxiliary_Sphere\",ELLIPSOID[\"WGS_1984_Major_Auxiliary_Sphere\",6378137.0,0.0,LENGTHUNIT[\"Meter\",1.0]]],PRIMEM[\"Greenwich\",0.0,ANGLEUNIT[\"Degree\",0.0174532925199433]],CS[ellipsoidal,2],ANGLEUNIT[\"Degree\",0.0174532925199433]],CONVERSION[\"Mercator\",METHOD[\"Mercator\"],PARAMETER[\"false_easting\",0.0,LENGTHUNIT[\"Meter\",1.0]],PARAMETER[\"false_northing\",0.0,LENGTHUNIT[\"Meter\",1.0]],PARAMETER[\"central_meridian\",0.0,ANGLEUNIT[\"Degree\",0.0174532925199433]],PARAMETER[\"standard_parallel_1\",0.0,ANGLEUNIT[\"Degree\",0.0174532925199433]]],CS[Cartesian,2],AXIS[\"Easting (X)\",east,ORDER[1]],AXIS[\"Northing (Y)\",north,ORDER[2]],LENGTHUNIT[\"Meter\",1.0]]",
   "wkt": "PROJCS[\"WGS_1984_Web_Mercator_deprecated\",GEOGCS[\"GCS_WGS_1984_Major_Auxiliary_Sphere\",DATUM[\"D_WGS_1984_Major_Auxiliary_Sphere\",SPHEROID[\"WGS_1984_Major_Auxiliary_Sphere\",6378137.0,0.0]],PRIMEM[\"Greenwich\",0.0],UNIT[\"Degree\",0.0174532925199433]],PROJECTION[\"Mercator\"],PARAMETER[\"false_easting\",0.0],PARAMETER[\"false_northing\",0.0],PARAMETER[\"central_meridian\",0.0],PARAMETER[\"standard_parallel_1\",0.0],UNIT[\"Meter\",1.0]]"
  }
 },
 "sortableFields": "",
 "bandCount": 3,
 "pixelType": "U8",
 "minValues": [
  0,
  0,
  0
 ],
 "maxValues": [
  255,
  255,
  255
 ],
 "meanValues": [
  35.66720752088348,
  52.99495965560608,
  29.561890663777888
 ],
 "stdvValues": [
  24.5249336320413,
  26.51281049090596,
  22.135496358060788
 ],
 "hasMultidimensions": false,
 "pixelSizeX": 0.29858214173896996,
 "pixelSizeY": 0.2985821417389687,
 "meanPixelSize": 0.29858214173896935,
 "datasetFormat": "FGDBR",
 "uncompressedSize": 26163132840,
 "blockWidth": 128,
 "blockHeight": 128,
 "compressionType": "LZ77",
 "bandNames": [
  "Band_1",
  "Band_2",
  "Band_3"
 ],
 "allowCopy": true,
 "allowAnalysis": true,
 "itemAccess": false,
 "inspectionCapabilities": "",
 "minPixelSize": 0,
 "maxPixelSize": 0,
 "copyrightText": "",
 "serviceDataType": "esriImageServiceDataTypeRGB",
 "serviceSourceType": "esriImageServiceSourceTypeDataset",
 "objectIdField": "",
 "fields": [],
 "capabilities": "Mensuration,Image,Metadata",
 "defaultMosaicMethod": "Center",
 "allowedMosaicMethods": "",
 "sortField": "",
 "sortValue": null,
 "sortAscending": true,
 "mosaicOperator": "First",
 "defaultCompressionQuality": 75,
 "defaultResamplingMethod": "Bilinear",
 "maxImageHeight": 4100,
 "maxImageWidth": 15000,
 "allowRasterFunction": true,
 "rasterFunctionInfos": [
  {
   "name": "None",
   "description": "",
   "help": ""
  }
 ],
 "rasterTypeInfos": [
  {
   "name": "Raster Dataset",
   "description": "Supports all ArcGIS Raster Datasets",
   "help": ""
  }
 ],
 "mensurationCapabilities": "Basic",
 "hasHistograms": true,
 "hasColormap": false,
 "hasRasterAttributeTable": false,
 "minScale": 0,
 "maxScale": 0,
 "exportTilesAllowed": false,
 "supportsStatistics": false,
 "supportsAdvancedQueries": false,
 "editFieldsInfo": null,
 "ownershipBasedAccessControlForRasters": null,
 "allowComputeTiePoints": false,
 "useStandardizedQueries": true,
 "advancedQueryCapabilities": {
  "useStandardizedQueries": true,
  "supportsStatistics": false,
  "supportsOrderBy": false,
  "supportsDistinct": false,
  "supportsPagination": false
 },
 "spatialReference": {
  "wkt2": "PROJCRS[\"WGS_1984_Web_Mercator_deprecated\",BASEGEOGCRS[\"GCS_WGS_1984_Major_Auxiliary_Sphere\",DATUM[\"D_WGS_1984_Major_Auxiliary_Sphere\",ELLIPSOID[\"WGS_1984_Major_Auxiliary_Sphere\",6378137.0,0.0,LENGTHUNIT[\"Meter\",1.0]]],PRIMEM[\"Greenwich\",0.0,ANGLEUNIT[\"Degree\",0.0174532925199433]],CS[ellipsoidal,2],ANGLEUNIT[\"Degree\",0.0174532925199433]],CONVERSION[\"Mercator\",METHOD[\"Mercator\"],PARAMETER[\"false_easting\",0.0,LENGTHUNIT[\"Meter\",1.0]],PARAMETER[\"false_northing\",0.0,LENGTHUNIT[\"Meter\",1.0]],PARAMETER[\"central_meridian\",0.0,ANGLEUNIT[\"Degree\",0.0174532925199433]],PARAMETER[\"standard_parallel_1\",0.0,ANGLEUNIT[\"Degree\",0.0174532925199433]]],CS[Cartesian,2],AXIS[\"Easting (X)\",east,ORDER[1]],AXIS[\"Northing (Y)\",north,ORDER[2]],LENGTHUNIT[\"Meter\",1.0]]",
  "wkt": "PROJCS[\"WGS_1984_Web_Mercator_deprecated\",GEOGCS[\"GCS_WGS_1984_Major_Auxiliary_Sphere\",DATUM[\"D_WGS_1984_Major_Auxiliary_Sphere\",SPHEROID[\"WGS_1984_Major_Auxiliary_Sphere\",6378137.0,0.0]],PRIMEM[\"Greenwich\",0.0],UNIT[\"Degree\",0.0174532925199433]],PROJECTION[\"Mercator\"],PARAMETER[\"false_easting\",0.0],PARAMETER[\"false_northing\",0.0],PARAMETER[\"central_meridian\",0.0],PARAMETER[\"standard_parallel_1\",0.0],UNIT[\"Meter\",1.0]]"
 },
 "resampling": false
}
