View In:
ArcGIS JavaScript
ArcGIS Online Map Viewer
ArcGIS Earth
Service Description: Mosaico de fotografías satelitales capturadas el 15-07-2017
Name: Mapas_Base/Mosaico2017
Description: Mosaico de fotografías satelitales capturadas el 15-07-2017
Single Fused Map Cache: false
Extent:
XMin: 482323.5247698042
YMin: 1113105.8734120924
XMax: 495015.8941911212
YMax: 1132339.2555435405
Spatial Reference: 102305
(5367)
LatestVCSWkid(0)
Initial Extent:
XMin: 482323.5247698042
YMin: 1113105.8734120924
XMax: 495015.8941911212
YMax: 1132339.2555435405
Spatial Reference: 102305
(5367)
LatestVCSWkid(0)
Full Extent:
XMin: 482323.5247698042
YMin: 1113105.8734120924
XMax: 495015.8941911212
YMax: 1132339.2555435405
Spatial Reference: 102305
(5367)
LatestVCSWkid(0)
Pixel Size X: 0.300567619146467
Pixel Size Y: 0.30102487176135123
Band Count: 3
Pixel Type: U8
RasterFunction Infos: {"rasterFunctionInfos": [{
"name": "None",
"description": "",
"help": ""
}]}
Mensuration Capabilities: Basic
Inspection Capabilities:
Has Histograms: true
Has Colormap: false
Has Multi Dimensions : false
Rendering Rule:
Min Scale: 0
Max Scale: 0
Resampling: false
Copyright Text:
Service Data Type: esriImageServiceDataTypeRGB
Min Values: 0, 0, 0
Max Values: 255, 255, 255
Mean Values: 42.63071669534104, 54.69143056066963, 45.29079919156744
Standard Deviation Values: 45.162808470136106, 49.817826975844504, 49.06445842191884
Object ID Field:
Fields:
None
Default Mosaic Method: Center
Allowed Mosaic Methods:
SortField:
SortValue: null
Mosaic Operator: First
Default Compression Quality: 75
Default Resampling Method: Bilinear
Max Record Count: null
Max Image Height: 4100
Max Image Width: 15000
Max Download Image Count: null
Max Mosaic Image Count: null
Allow Raster Function: true
Allow Copy: true
Allow Analysis: true
Allow Compute TiePoints: false
Supports Statistics: false
Supports Advanced Queries: false
Use StandardizedQueries: true
Raster Type Infos:
Name: Raster Dataset
Description: Supports all ArcGIS Raster Datasets
Help:
Has Raster Attribute Table: false
Edit Fields Info: null
Ownership Based AccessControl For Rasters: null
Child Resources:
Info
Histograms
Statistics
Key Properties
Legend
Raster Function Infos
Supported Operations:
Export Image
Identify
Measure
Compute Histograms
Compute Statistics Histograms
Get Samples
Compute Class Statistics
Query Boundary
Compute Pixel Location
Compute Angles
Validate
Project