{
 "currentVersion": 11.3,
 "serviceDescription": "Mosaico de fotografías satelitales capturadas el 15-07-2017",
 "name": "Mapas_Base/Mosaico2017",
 "description": "Mosaico de fotografías satelitales capturadas el 15-07-2017",
 "extent": {
  "xmin": 482323.5247698042,
  "ymin": 1113105.8734120924,
  "xmax": 495015.8941911212,
  "ymax": 1132339.2555435405,
  "spatialReference": {
   "wkid": 102305,
   "latestWkid": 5367
  }
 },
 "initialExtent": {
  "xmin": 482323.5247698042,
  "ymin": 1113105.8734120924,
  "xmax": 495015.8941911212,
  "ymax": 1132339.2555435405,
  "spatialReference": {
   "wkid": 102305,
   "latestWkid": 5367
  }
 },
 "fullExtent": {
  "xmin": 482323.5247698042,
  "ymin": 1113105.8734120924,
  "xmax": 495015.8941911212,
  "ymax": 1132339.2555435405,
  "spatialReference": {
   "wkid": 102305,
   "latestWkid": 5367
  }
 },
 "sortableFields": "",
 "bandCount": 3,
 "pixelType": "U8",
 "minValues": [
  0,
  0,
  0
 ],
 "maxValues": [
  255,
  255,
  255
 ],
 "meanValues": [
  42.63071669534104,
  54.69143056066963,
  45.29079919156744
 ],
 "stdvValues": [
  45.162808470136106,
  49.817826975844504,
  49.06445842191884
 ],
 "hasMultidimensions": false,
 "pixelSizeX": 0.300567619146467,
 "pixelSizeY": 0.30102487176135123,
 "meanPixelSize": 0.30079624545390915,
 "datasetFormat": "FGDBR",
 "uncompressedSize": 8094220812,
 "blockWidth": 128,
 "blockHeight": 128,
 "compressionType": "LZ77",
 "bandNames": [
  "Band_1",
  "Band_2",
  "Band_3"
 ],
 "allowCopy": true,
 "allowAnalysis": true,
 "itemAccess": false,
 "inspectionCapabilities": "",
 "minPixelSize": 0,
 "maxPixelSize": 0,
 "copyrightText": "",
 "serviceDataType": "esriImageServiceDataTypeRGB",
 "serviceSourceType": "esriImageServiceSourceTypeDataset",
 "objectIdField": "",
 "fields": [],
 "capabilities": "Mensuration,Image,Metadata",
 "defaultMosaicMethod": "Center",
 "allowedMosaicMethods": "",
 "sortField": "",
 "sortValue": null,
 "sortAscending": true,
 "mosaicOperator": "First",
 "defaultCompressionQuality": 75,
 "defaultResamplingMethod": "Bilinear",
 "maxImageHeight": 4100,
 "maxImageWidth": 15000,
 "allowRasterFunction": true,
 "rasterFunctionInfos": [
  {
   "name": "None",
   "description": "",
   "help": ""
  }
 ],
 "rasterTypeInfos": [
  {
   "name": "Raster Dataset",
   "description": "Supports all ArcGIS Raster Datasets",
   "help": ""
  }
 ],
 "mensurationCapabilities": "Basic",
 "hasHistograms": true,
 "hasColormap": false,
 "hasRasterAttributeTable": false,
 "minScale": 0,
 "maxScale": 0,
 "exportTilesAllowed": false,
 "supportsStatistics": false,
 "supportsAdvancedQueries": false,
 "editFieldsInfo": null,
 "ownershipBasedAccessControlForRasters": null,
 "allowComputeTiePoints": false,
 "useStandardizedQueries": true,
 "advancedQueryCapabilities": {
  "useStandardizedQueries": true,
  "supportsStatistics": false,
  "supportsOrderBy": false,
  "supportsDistinct": false,
  "supportsPagination": false
 },
 "spatialReference": {
  "wkid": 102305,
  "latestWkid": 5367
 },
 "resampling": false
}
