View In:
ArcGIS JavaScript
ArcGIS Online Map Viewer
ArcGIS Earth
Service Description: Mosaico de ortofotos elaborado por el programa de Regularización del Catastro y Registro, mediante la LEy N° 8154, producción realizada en el año 2008 por el Consorcio Eptisa-Stereocarto
Name: Mapas_Base/Ortos2005
Description: Mosaico de ortofotos elaborado por el programa de Regularización del Catastro y Registro, mediante la LEy N° 8154, producción realizada en el año 2008 por el Consorcio Eptisa-Stereocarto
Single Fused Map Cache: false
Extent:
XMin: 481942.56
YMin: 1101279.9600000004
XMax: 488086.0799999997
YMax: 1107577.32
Spatial Reference: 102305
(5367)
LatestVCSWkid(0)
Initial Extent:
XMin: 481942.56
YMin: 1101279.9600000004
XMax: 488086.0799999997
YMax: 1107577.32
Spatial Reference: 102305
(5367)
LatestVCSWkid(0)
Full Extent:
XMin: 481942.56
YMin: 1101279.9600000004
XMax: 488086.0799999997
YMax: 1107577.32
Spatial Reference: 102305
(5367)
LatestVCSWkid(0)
Pixel Size X: 0.11999999999999468
Pixel Size Y: 0.11999999999999308
Band Count: 3
Pixel Type: U8
RasterFunction Infos: {"rasterFunctionInfos": [{
"name": "None",
"description": "",
"help": ""
}]}
Mensuration Capabilities: Basic
Inspection Capabilities:
Has Histograms: true
Has Colormap: false
Has Multi Dimensions : false
Rendering Rule:
Min Scale: 0
Max Scale: 0
Copyright Text: Registro Nacional
Service Data Type: esriImageServiceDataTypeRGB
Min Values: 9.842218137254832E-4, 9.842218137254832E-4, 9.842218137254832E-4
Max Values: 254.50096890318628, 254.50096890318628, 254.50096890318628
Mean Values: 129.71045585595405, 130.21524171365928, 117.89109585329872
Standard Deviation Values: 37.57849666935641, 39.003786837491106, 38.82564796155058
Object ID Field: OBJECTID
Fields:
-
OBJECTID
(
type: esriFieldTypeOID, alias: OBJECTID
)
-
Shape
(
type: esriFieldTypeGeometry, alias: Shape
)
-
Name
(
type: esriFieldTypeString, alias: Name, length: 200
)
-
MinPS
(
type: esriFieldTypeDouble, alias: MinPS
)
-
MaxPS
(
type: esriFieldTypeDouble, alias: MaxPS
)
-
LowPS
(
type: esriFieldTypeDouble, alias: LowPS
)
-
HighPS
(
type: esriFieldTypeDouble, alias: HighPS
)
-
Category
(
type: esriFieldTypeInteger, alias: Category
, Coded Values:
[0: Unknown]
, [1: Primary]
, [2: Overview]
, ...6 more...
)
-
Tag
(
type: esriFieldTypeString, alias: Tag, length: 100
)
-
GroupName
(
type: esriFieldTypeString, alias: GroupName, length: 100
)
-
ProductName
(
type: esriFieldTypeString, alias: ProductName, length: 100
)
-
CenterX
(
type: esriFieldTypeDouble, alias: CenterX
)
-
CenterY
(
type: esriFieldTypeDouble, alias: CenterY
)
-
ZOrder
(
type: esriFieldTypeInteger, alias: ZOrder
)
-
Shape_Length
(
type: esriFieldTypeDouble, alias: Shape_Length
)
-
Shape_Area
(
type: esriFieldTypeDouble, alias: Shape_Area
)
Default Mosaic Method: Northwest
Allowed Mosaic Methods: NorthWest,Center,LockRaster,ByAttribute,Nadir,Viewpoint,Seamline,None
SortField:
SortValue: null
Mosaic Operator: First
Default Compression Quality: 75
Default Resampling Method: Bilinear
Max Record Count: 1000
Max Image Height: 4100
Max Image Width: 15000
Max Download Image Count: 20
Max Mosaic Image Count: 20
Allow Raster Function: true
Allow Copy: true
Allow Analysis: true
Allow Compute TiePoints: false
Supports Statistics: true
Supports Advanced Queries: true
Use StandardizedQueries: true
Raster Type Infos:
Name: Raster Dataset
Description: Supports all ArcGIS Raster Datasets
Help:
Has Raster Attribute Table: false
Edit Fields Info: null
Ownership Based AccessControl For Rasters: null
Child Resources:
Info
Histograms
Statistics
Key Properties
Legend
Raster Function Infos
Supported Operations:
Export Image
Query
Identify
Measure
Compute Histograms
Compute Statistics Histograms
Get Samples
Compute Class Statistics
Query GPS Info
Find Images
Image to Map
Map to Image
Measure from Image
Image to Map Multiray
Query Boundary
Compute Pixel Location
Compute Angles
Validate
Project