View In:
ArcGIS JavaScript
ArcGIS Online Map Viewer
ArcGIS Earth
Service Description: Imagen Norte:
Tipo de producto: Pan Sharpened Natural Color
Origen: WV03_VNIR
unidad de origen Strip
Resolución: 30 cm
NIRS: 5,6
Fecha de adquisición 2020-12-13 4:13 pm UTC
Nubosidad 1,72%
Imagen Sur:
Tipo de producto: Pan Sharpened Natural Color
Origen: WV03_VNIR
unidad de origen Strip
Resolución: 30 cm
NIRS: 5,6
Fecha de adquisición 2020-12-13 13 pm UTC
Nubosidad 0,02%
Name: Mapas_Base/MosaicoSW13_12_2020
Description: Imagen Norte:
Tipo de producto: Pan Sharpened Natural Color
Origen: WV03_VNIR
unidad de origen Strip
Resolución: 30 cm
NIRS: 5,6
Fecha de adquisición 2020-12-13 4:13 pm UTC
Nubosidad 1,72%
Imagen Sur:
Tipo de producto: Pan Sharpened Natural Color
Origen: WV03_VNIR
unidad de origen Strip
Resolución: 30 cm
NIRS: 5,6
Fecha de adquisición 2020-12-13 13 pm UTC
Nubosidad 0,02%
Single Fused Map Cache: false
Extent:
XMin: 481733.16242555954
YMin: 1101058.2798354966
XMax: 488272.653704093
YMax: 1107754.979640808
Spatial Reference: 102305
(5367)
LatestVCSWkid(0)
Initial Extent:
XMin: 481733.16242555954
YMin: 1101058.2798354966
XMax: 488272.653704093
YMax: 1107754.979640808
Spatial Reference: 102305
(5367)
LatestVCSWkid(0)
Full Extent:
XMin: 481733.16242555954
YMin: 1101058.2798354966
XMax: 488272.653704093
YMax: 1107754.979640808
Spatial Reference: 102305
(5367)
LatestVCSWkid(0)
Pixel Size X: 0.31952952597153694
Pixel Size Y: 0.3195295259715332
Band Count: 3
Pixel Type: U8
RasterFunction Infos: {"rasterFunctionInfos": [{
"name": "None",
"description": "",
"help": ""
}]}
Mensuration Capabilities: None
Inspection Capabilities:
Has Histograms: true
Has Colormap: false
Has Multi Dimensions : false
Rendering Rule:
Min Scale: 0
Max Scale: 0
Resampling: false
Copyright Text: Municipalidad de Heredia
Service Data Type: esriImageServiceDataTypeRGB
Min Values: 0, 0, 0
Max Values: 255, 255, 255
Mean Values: 98.35169025815688, 91.93925541752908, 85.68810518104087
Standard Deviation Values: 56.70970796167855, 54.07457593976675, 54.89314395881109
Object ID Field: OBJECTID
Fields:
-
OBJECTID
(
type: esriFieldTypeOID, alias: OBJECTID
)
-
Shape
(
type: esriFieldTypeGeometry, alias: Shape
)
-
Name
(
type: esriFieldTypeString, alias: Name, length: 200
)
-
MinPS
(
type: esriFieldTypeDouble, alias: MinPS
)
-
MaxPS
(
type: esriFieldTypeDouble, alias: MaxPS
)
-
LowPS
(
type: esriFieldTypeDouble, alias: LowPS
)
-
HighPS
(
type: esriFieldTypeDouble, alias: HighPS
)
-
Category
(
type: esriFieldTypeInteger, alias: Category
, Coded Values:
[0: Unknown]
, [1: Primary]
, [2: Overview]
, ...6 more...
)
-
Tag
(
type: esriFieldTypeString, alias: Tag, length: 100
)
-
GroupName
(
type: esriFieldTypeString, alias: GroupName, length: 100
)
-
ProductName
(
type: esriFieldTypeString, alias: ProductName, length: 100
)
-
CenterX
(
type: esriFieldTypeDouble, alias: CenterX
)
-
CenterY
(
type: esriFieldTypeDouble, alias: CenterY
)
-
ZOrder
(
type: esriFieldTypeInteger, alias: ZOrder
)
-
Shape_Length
(
type: esriFieldTypeDouble, alias: Shape_Length
)
-
Shape_Area
(
type: esriFieldTypeDouble, alias: Shape_Area
)
Default Mosaic Method: Northwest
Allowed Mosaic Methods: NorthWest,Center,LockRaster,ByAttribute,Nadir,Viewpoint,Seamline,None
SortField:
SortValue: null
Mosaic Operator: First
Default Compression Quality: 75
Default Resampling Method: Bilinear
Max Record Count: 1000
Max Image Height: 4100
Max Image Width: 15000
Max Download Image Count: 20
Max Mosaic Image Count: 20
Allow Raster Function: true
Allow Copy: true
Allow Analysis: true
Allow Compute TiePoints: false
Supports Statistics: true
Supports Advanced Queries: true
Use StandardizedQueries: true
Raster Type Infos:
Name: Raster Dataset
Description: Supports all ArcGIS Raster Datasets
Help:
Has Raster Attribute Table: false
Edit Fields Info: null
Ownership Based AccessControl For Rasters: null
Child Resources:
Info
Histograms
Statistics
Key Properties
Legend
Raster Function Infos
Supported Operations:
Export Image
Query
Identify
Compute Histograms
Compute Statistics Histograms
Get Samples
Compute Class Statistics
Query GPS Info
Find Images
Image to Map
Map to Image
Measure from Image
Image to Map Multiray
Query Boundary
Compute Pixel Location
Compute Angles
Validate
Project