{
 "currentVersion": 11.3,
 "cimVersion": "3.3.0",
 "serviceDescription": "Levantamiento del catastro pluvial para la municipalidad de Heredia en el distrito central.",
 "mapName": "SISTEMA PLUVIAL DISTRITO DE HEREDIA",
 "description": "Levantamiento del catastro pluvial para la municipalidad de Heredia en el distrito central.",
 "copyrightText": "",
 "supportsDynamicLayers": true,
 "layers": [
  {
   "id": 0,
   "name": "Sistema Pluvial Mercedes",
   "parentLayerId": -1,
   "defaultVisibility": true,
   "subLayerIds": [
    2,
    3,
    4,
    5,
    6,
    7,
    8
   ],
   "minScale": 5000,
   "maxScale": 0,
   "type": "Group Layer",
   "supportsDynamicLegends": false
  },
  {
   "id": 2,
   "name": "Tragantes Mercedes",
   "parentLayerId": 0,
   "defaultVisibility": true,
   "subLayerIds": null,
   "minScale": 0,
   "maxScale": 0,
   "type": "Feature Layer",
   "geometryType": "esriGeometryPoint",
   "supportsDynamicLegends": true
  },
  {
   "id": 3,
   "name": "Pozos Sanitarios Mercedes",
   "parentLayerId": 0,
   "defaultVisibility": true,
   "subLayerIds": null,
   "minScale": 0,
   "maxScale": 0,
   "type": "Feature Layer",
   "geometryType": "esriGeometryPoint",
   "supportsDynamicLegends": true
  },
  {
   "id": 4,
   "name": "Pozos Pluviales Mercedes",
   "parentLayerId": 0,
   "defaultVisibility": true,
   "subLayerIds": null,
   "minScale": 0,
   "maxScale": 0,
   "type": "Feature Layer",
   "geometryType": "esriGeometryPoint",
   "supportsDynamicLegends": true
  },
  {
   "id": 5,
   "name": "Numero Entrada Salida Mercedes",
   "parentLayerId": 0,
   "defaultVisibility": true,
   "subLayerIds": null,
   "minScale": 0,
   "maxScale": 0,
   "type": "Feature Layer",
   "geometryType": "esriGeometryPoint",
   "supportsDynamicLegends": true
  },
  {
   "id": 6,
   "name": "E_S_F Mercedes",
   "parentLayerId": 0,
   "defaultVisibility": true,
   "subLayerIds": null,
   "minScale": 0,
   "maxScale": 0,
   "type": "Feature Layer",
   "geometryType": "esriGeometryPoint",
   "supportsDynamicLegends": true
  },
  {
   "id": 7,
   "name": "Cajas Registro Mercedes",
   "parentLayerId": 0,
   "defaultVisibility": true,
   "subLayerIds": null,
   "minScale": 0,
   "maxScale": 0,
   "type": "Feature Layer",
   "geometryType": "esriGeometryPoint",
   "supportsDynamicLegends": true
  },
  {
   "id": 8,
   "name": "Cabezales Mercedes",
   "parentLayerId": 0,
   "defaultVisibility": true,
   "subLayerIds": null,
   "minScale": 0,
   "maxScale": 0,
   "type": "Feature Layer",
   "geometryType": "esriGeometryPoint",
   "supportsDynamicLegends": true
  },
  {
   "id": 21,
   "name": "Tuberia Pluvial Mercedes",
   "parentLayerId": -1,
   "defaultVisibility": true,
   "subLayerIds": null,
   "minScale": 0,
   "maxScale": 0,
   "type": "Feature Layer",
   "geometryType": "esriGeometryPolyline",
   "supportsDynamicLegends": true
  },
  {
   "id": 20,
   "name": "Dirección de Aguas Mercedes",
   "parentLayerId": -1,
   "defaultVisibility": true,
   "subLayerIds": null,
   "minScale": 0,
   "maxScale": 0,
   "type": "Feature Layer",
   "geometryType": "esriGeometryPolyline",
   "supportsDynamicLegends": true
  },
  {
   "id": 9,
   "name": "Cuneta Mercedes",
   "parentLayerId": -1,
   "defaultVisibility": true,
   "subLayerIds": null,
   "minScale": 0,
   "maxScale": 0,
   "type": "Feature Layer",
   "geometryType": "esriGeometryPolyline",
   "supportsDynamicLegends": true
  },
  {
   "id": 11,
   "name": "CORDON Y CAÑO",
   "parentLayerId": -1,
   "defaultVisibility": true,
   "subLayerIds": null,
   "minScale": 0,
   "maxScale": 0,
   "type": "Feature Layer",
   "geometryType": "esriGeometryPolyline",
   "supportsDynamicLegends": true
  },
  {
   "id": 12,
   "name": "CALZADA",
   "parentLayerId": -1,
   "defaultVisibility": true,
   "subLayerIds": null,
   "minScale": 0,
   "maxScale": 0,
   "type": "Feature Layer",
   "geometryType": "esriGeometryPolyline",
   "supportsDynamicLegends": true
  },
  {
   "id": 13,
   "name": "Sistema Pluvial",
   "parentLayerId": -1,
   "defaultVisibility": true,
   "subLayerIds": [
    14,
    1,
    16,
    17,
    22,
    23
   ],
   "minScale": 0,
   "maxScale": 0,
   "type": "Group Layer",
   "supportsDynamicLegends": false
  },
  {
   "id": 14,
   "name": "PozoPluvial",
   "parentLayerId": 13,
   "defaultVisibility": true,
   "subLayerIds": null,
   "minScale": 5000,
   "maxScale": 0,
   "type": "Feature Layer",
   "geometryType": "esriGeometryPoint",
   "supportsDynamicLegends": true
  },
  {
   "id": 1,
   "name": "Tragante Heredia",
   "parentLayerId": 13,
   "defaultVisibility": true,
   "subLayerIds": null,
   "minScale": 0,
   "maxScale": 0,
   "type": "Feature Layer",
   "geometryType": "esriGeometryPoint",
   "supportsDynamicLegends": true
  },
  {
   "id": 16,
   "name": "Tuberia Pluvial Heredia",
   "parentLayerId": 13,
   "defaultVisibility": true,
   "subLayerIds": null,
   "minScale": 0,
   "maxScale": 0,
   "type": "Feature Layer",
   "geometryType": "esriGeometryPolyline",
   "supportsDynamicLegends": true
  },
  {
   "id": 17,
   "name": "Cuneta",
   "parentLayerId": 13,
   "defaultVisibility": true,
   "subLayerIds": null,
   "minScale": 0,
   "maxScale": 0,
   "type": "Feature Layer",
   "geometryType": "esriGeometryPolyline",
   "supportsDynamicLegends": true
  },
  {
   "id": 22,
   "name": "Tragantes Heredia",
   "parentLayerId": 13,
   "defaultVisibility": true,
   "subLayerIds": null,
   "minScale": 0,
   "maxScale": 0,
   "type": "Feature Layer",
   "geometryType": "esriGeometryPolygon",
   "supportsDynamicLegends": true
  },
  {
   "id": 23,
   "name": "Cajas Registro Heredia",
   "parentLayerId": 13,
   "defaultVisibility": true,
   "subLayerIds": null,
   "minScale": 0,
   "maxScale": 0,
   "type": "Feature Layer",
   "geometryType": "esriGeometryPolygon",
   "supportsDynamicLegends": true
  }
 ],
 "tables": [],
 "spatialReference": {
  "wkid": 8908,
  "latestWkid": 8908,
  "xyTolerance": 0.001,
  "zTolerance": 0.001,
  "mTolerance": 0.001,
  "falseX": -5122600,
  "falseY": -10001100,
  "xyUnits": 10000,
  "falseZ": -100000,
  "zUnits": 10000,
  "falseM": -100000,
  "mUnits": 10000
 },
 "singleFusedMapCache": true,
 "tileInfo": {
  "rows": 256,
  "cols": 256,
  "dpi": 96,
  "format": "PNG",
  "compressionQuality": 75,
  "origin": {
   "x": -5122600,
   "y": 9.00709924374099E11
  },
  "spatialReference": {
   "wkid": 8908,
   "latestWkid": 8908,
   "xyTolerance": 0.001,
   "zTolerance": 0.001,
   "mTolerance": 0.001,
   "falseX": -5122600,
   "falseY": -10001100,
   "xyUnits": 10000,
   "falseZ": -100000,
   "zUnits": 10000,
   "falseM": -100000,
   "mUnits": 10000
  },
  "lods": [
   {
    "level": 0,
    "resolution": 1.3229193125052918,
    "scale": 5000
   },
   {
    "level": 1,
    "resolution": 0.5291677250021167,
    "scale": 2000
   },
   {
    "level": 2,
    "resolution": 0.13229193125052918,
    "scale": 500
   }
  ]
 },
 "storageInfo": {
  "storageFormat": "esriMapCacheStorageModeCompactV2",
  "packetSize": 128
 },
 "initialExtent": {
  "xmin": 486479.7427252325,
  "ymin": 1105230.7429573725,
  "xmax": 486841.79067177686,
  "ymax": 1105603.6870117474,
  "spatialReference": {
   "wkid": 8908,
   "latestWkid": 8908,
   "xyTolerance": 0.001,
   "zTolerance": 0.001,
   "mTolerance": 0.001,
   "falseX": -5122600,
   "falseY": -10001100,
   "xyUnits": 10000,
   "falseZ": -100000,
   "zUnits": 10000,
   "falseM": -100000,
   "mUnits": 10000
  }
 },
 "fullExtent": {
  "xmin": 483632.8081,
  "ymin": 1103979.3242,
  "xmax": 488139.4155,
  "ymax": 1107519.8789,
  "spatialReference": {
   "wkid": 8908,
   "latestWkid": 8908,
   "xyTolerance": 0.001,
   "zTolerance": 0.001,
   "mTolerance": 0.001,
   "falseX": -5122600,
   "falseY": -10001100,
   "xyUnits": 10000,
   "falseZ": -100000,
   "zUnits": 10000,
   "falseM": -100000,
   "mUnits": 10000
  }
 },
 "datesInUnknownTimezone": false,
 "minScale": 36047.860210707455,
 "maxScale": 4505.982526338432,
 "units": "esriMeters",
 "supportedImageFormatTypes": "PNG32,PNG24,PNG,JPG,DIB,TIFF,EMF,PS,PDF,GIF,SVG,SVGZ,BMP",
 "documentInfo": {
  "Title": "Sistema Pluvial Distrito de Heredia",
  "Author": "",
  "Comments": "Levantamiento del catastro pluvial para la municipalidad de Heredia en el distrito central.",
  "Subject": "",
  "Category": "",
  "Version": "3.1.0",
  "AntialiasingMode": "Fast",
  "TextAntialiasingMode": "Force",
  "Keywords": "alcantarillado,pluvia,heredia,mercedes"
 },
 "supportsQueryDomains": true,
 "capabilities": "Map,Query,Data",
 "supportedQueryFormats": "JSON, geoJSON, PBF",
 "exportTilesAllowed": false,
 "referenceScale": 0.0,
 "datumTransformations": [
  {
   "geoTransforms": [
    {
     "wkid": 5376,
     "latestWkid": 5376,
     "transformForward": false,
     "name": "CR05_To_WGS_1984_1"
    }
   ]
  },
  {
   "geoTransforms": [
    {
     "wkid": 5376,
     "latestWkid": 5376,
     "transformForward": true,
     "name": "CR05_To_WGS_1984_1"
    }
   ]
  },
  {
   "geoTransforms": [
    {
     "wkid": 9751,
     "latestWkid": 9751,
     "transformForward": false,
     "name": "CR05_to_CR-SIRGAS_1"
    },
    {
     "wkid": 5376,
     "latestWkid": 5376,
     "transformForward": true,
     "name": "CR05_To_WGS_1984_1"
    }
   ]
  },
  {
   "geoTransforms": [
    {
     "wkid": 5376,
     "latestWkid": 5376,
     "transformForward": false,
     "name": "CR05_To_WGS_1984_1"
    },
    {
     "wkid": 9751,
     "latestWkid": 9751,
     "transformForward": true,
     "name": "CR05_to_CR-SIRGAS_1"
    }
   ]
  },
  {
   "geoTransforms": [
    {
     "wkid": 9751,
     "latestWkid": 9751,
     "transformForward": true,
     "name": "CR05_to_CR-SIRGAS_1"
    }
   ]
  },
  {
   "geoTransforms": [
    {
     "wkid": 9751,
     "latestWkid": 9751,
     "transformForward": false,
     "name": "CR05_to_CR-SIRGAS_1"
    }
   ]
  },
  {
   "geoTransforms": [
    {
     "wkid": 9751,
     "latestWkid": 9751,
     "transformForward": true,
     "name": "CR05_to_CR-SIRGAS_1"
    }
   ]
  },
  {
   "geoTransforms": [
    {
     "wkid": 9751,
     "latestWkid": 9751,
     "transformForward": false,
     "name": "CR05_to_CR-SIRGAS_1"
    }
   ]
  },
  {
   "geoTransforms": [
    {
     "wkid": 9751,
     "latestWkid": 9751,
     "transformForward": true,
     "name": "CR05_to_CR-SIRGAS_1"
    }
   ]
  },
  {
   "geoTransforms": [
    {
     "wkid": 9751,
     "latestWkid": 9751,
     "transformForward": false,
     "name": "CR05_to_CR-SIRGAS_1"
    }
   ]
  },
  {
   "geoTransforms": [
    {
     "wkid": 9751,
     "latestWkid": 9751,
     "transformForward": true,
     "name": "CR05_to_CR-SIRGAS_1"
    }
   ]
  },
  {
   "geoTransforms": [
    {
     "wkid": 9751,
     "latestWkid": 9751,
     "transformForward": false,
     "name": "CR05_to_CR-SIRGAS_1"
    }
   ]
  }
 ],
 "supportsDatumTransformation": true,
 "archivingInfo": {
  "supportsHistoricMoment": false
 },
 "supportsClipping": true,
 "supportsSpatialFilter": true,
 "supportsTimeRelation": true,
 "supportsQueryDataElements": true,
 "mapUnits": {
  "uwkid": 9001
 },
 "maxRecordCount": 2000,
 "maxImageHeight": 4096,
 "maxImageWidth": 4096,
 "supportedExtensions": "",
 "resampling": false,
 "serviceItemId": "3857ee959ff84ebb875a087118356e4f"
}
