{
 "currentVersion": 11.3,
 "cimVersion": "3.3.0",
 "serviceDescription": "Servicio publicado para realizar una presentación comparativa a la administración.",
 "mapName": "Capas",
 "description": "",
 "copyrightText": "",
 "supportsDynamicLayers": true,
 "layers": [
  {
   "id": 0,
   "name": "Zonas_Homogeneas",
   "parentLayerId": -1,
   "defaultVisibility": true,
   "subLayerIds": null,
   "minScale": 0,
   "maxScale": 0,
   "type": "Feature Layer",
   "geometryType": "esriGeometryPolygon",
   "supportsDynamicLegends": true
  }
 ],
 "tables": [
  {
   "id": 1,
   "name": "LOTETIPO_ZONASH",
   "type": "Table"
  }
 ],
 "spatialReference": {
  "wkid": 102305,
  "latestWkid": 5367,
  "xyTolerance": 0.001,
  "zTolerance": 2,
  "mTolerance": 0.001,
  "falseX": -5122600,
  "falseY": -10001100,
  "xyUnits": 4.503104285899046E8,
  "falseZ": 0,
  "zUnits": 1,
  "falseM": -100000,
  "mUnits": 10000
 },
 "singleFusedMapCache": true,
 "tileInfo": {
  "rows": 256,
  "cols": 256,
  "dpi": 96,
  "format": "PNG",
  "compressionQuality": 75,
  "origin": {
   "x": -5122600,
   "y": 10001100
  },
  "spatialReference": {
   "wkid": 102305,
   "latestWkid": 5367,
   "xyTolerance": 0.001,
   "zTolerance": 2,
   "mTolerance": 0.001,
   "falseX": -5122600,
   "falseY": -10001100,
   "xyUnits": 4.503104285899046E8,
   "falseZ": 0,
   "zUnits": 1,
   "falseM": -100000,
   "mUnits": 10000
  },
  "lods": [
   {
    "level": 0,
    "resolution": 66.1459656252646,
    "scale": 250000
   },
   {
    "level": 1,
    "resolution": 33.0729828126323,
    "scale": 125000
   },
   {
    "level": 2,
    "resolution": 16.933367200067735,
    "scale": 64000
   },
   {
    "level": 3,
    "resolution": 8.466683600033868,
    "scale": 32000
   },
   {
    "level": 4,
    "resolution": 4.233341800016934,
    "scale": 16000
   },
   {
    "level": 5,
    "resolution": 2.116670900008467,
    "scale": 8000
   },
   {
    "level": 6,
    "resolution": 1.0583354500042335,
    "scale": 4000
   },
   {
    "level": 7,
    "resolution": 0.5291677250021167,
    "scale": 2000
   }
  ]
 },
 "storageInfo": {
  "storageFormat": "esriMapCacheStorageModeCompactV2",
  "packetSize": 128
 },
 "initialExtent": {
  "xmin": 467180.0953283642,
  "ymin": 1108118.2250806096,
  "xmax": 485658.6322854381,
  "ymax": 1111213.856271872,
  "spatialReference": {
   "wkid": 102305,
   "latestWkid": 5367,
   "xyTolerance": 0.001,
   "zTolerance": 2,
   "mTolerance": 0.001,
   "falseX": -5122600,
   "falseY": -10001100,
   "xyUnits": 4.503104285899046E8,
   "falseZ": 0,
   "zUnits": 1,
   "falseM": -100000,
   "mUnits": 10000
  }
 },
 "fullExtent": {
  "xmin": 481933.2187000001,
  "ymin": 1101258.2206999995,
  "xmax": 509562.9095999999,
  "ymax": 1138774.0677000005,
  "spatialReference": {
   "wkid": 102305,
   "latestWkid": 5367,
   "xyTolerance": 0.001,
   "zTolerance": 2,
   "mTolerance": 0.001,
   "falseX": -5122600,
   "falseY": -10001100,
   "xyUnits": 4.503104285899046E8,
   "falseZ": 0,
   "zUnits": 1,
   "falseM": -100000,
   "mUnits": 10000
  }
 },
 "datesInUnknownTimezone": false,
 "minScale": 288895.277144,
 "maxScale": 4513.988705,
 "units": "esriMeters",
 "supportedImageFormatTypes": "PNG32,PNG24,PNG,JPG,DIB,TIFF,EMF,PS,PDF,GIF,SVG,SVGZ,BMP",
 "documentInfo": {
  "Title": "",
  "Author": "",
  "Comments": "",
  "Subject": "",
  "Category": "",
  "Version": "10.1",
  "AntialiasingMode": "None",
  "TextAntialiasingMode": "Force",
  "Keywords": "Zonas Homogéneas"
 },
 "supportsQueryDomains": true,
 "capabilities": "Map,Query,Data",
 "supportedQueryFormats": "JSON, geoJSON, PBF",
 "exportTilesAllowed": false,
 "referenceScale": 0.0,
 "supportsDatumTransformation": true,
 "archivingInfo": {
  "supportsHistoricMoment": false
 },
 "supportsClipping": true,
 "supportsSpatialFilter": true,
 "supportsTimeRelation": true,
 "supportsQueryDataElements": true,
 "mapUnits": {
  "uwkid": 9001
 },
 "maxRecordCount": 1000,
 "maxImageHeight": 4096,
 "maxImageWidth": 4096,
 "supportedExtensions": "KmlServer",
 "resampling": false,
 "serviceItemId": "8c5d1bd56e4a4be898cd9be7155c9412"
}
