{
 "currentVersion": 11.3,
 "cimVersion": "3.3.0",
 "serviceDescription": "La capa muestra la ubicación de las aguas de dominio público en los cuatro distritos centrales del cantón Heredia.\nLa aguas de Dominio están definidas en la Ley N° 276, Ley de Aguas, artículo 1, inciso 4, el cual dice a la letra los siguiente:\n\u201cLas de los ríos y sus afluentes directos o indirectos, arroyos o manantiales desde el punto en que broten las primeras aguas permanentes hasta su desembocadura en el mar o lagos, lagunas o esteros;\u201d\n\nEl Artículo 2, de la ley de aguas define que las aguas de dominio público de la siguiente manera:\n\u201cLas aguas enumeradas en el artículo anterior (artículo 1) son de propiedad nacional y el dominio sobre ellas no se pierde ni se ha perdido cuando por ejecución de obras artificiales o de aprovechamientos anteriores se alteren o hayan alterado las características naturales.\u201d\nEl uso de las aguas de dominio público son propiedad del estado y cual quier uso por parte de un privado necesita una concesión que da el mismo estado, además cualquier alteración del cauce o del volumen en un cuerpo de dominio público necesitan Evaluación de Impacto Ambiental y la autorización de la Dirección de Aguas del MINAE\nEl Artículo 4, de la Ley de aguas, define las aguas de dominio privado y pertenecen al dueño del terreno, las siguientes aguas:\n\u201cLas aguas pluviales que caen en su predio mientras discurran por él. Podrá el dueño, en consecuencia, construir dentro de su propiedad, estanques, pantanos, cisternas o aljibes donde conservarlas al efecto, o emplear para ello cualquier otro medio adecuado, siempre que no cause perjuicio al público ni a tercero\u201d\n\n",
 "mapName": "AguasDominio",
 "description": "La capa muestra la ubicación de las aguas de dominio público en los cuatro distritos centrales del cantón Heredia.\nLa aguas de Dominio están definidas en la Ley N° 276, Ley de Aguas, artículo 1, inciso 4, el cual dice a la letra los siguiente:\n\u201cLas de los ríos y sus afluentes directos o indirectos, arroyos o manantiales desde el punto en que broten las primeras aguas permanentes hasta su desembocadura en el mar o lagos, lagunas o esteros;\u201d\n\nEl Artículo 2, de la ley de aguas define que las aguas de dominio público de la siguiente manera:\n\u201cLas aguas enumeradas en el artículo anterior (artículo 1) son de propiedad nacional y el dominio sobre ellas no se pierde ni se ha perdido cuando por ejecución de obras artificiales o de aprovechamientos anteriores se alteren o hayan alterado las características naturales.\u201d\nEl uso de las aguas de dominio público son propiedad del estado y cual quier uso por parte de un privado necesita una concesión que da el mismo estado, además cualquier alteración del cauce o del volumen en un cuerpo de dominio público necesitan Evaluación de Impacto Ambiental y la autorización de la Dirección de Aguas del MINAE\nEl Artículo 4, de la Ley de aguas, define las aguas de dominio privado y pertenecen al dueño del terreno, las siguientes aguas:\n\u201cLas aguas pluviales que caen en su predio mientras discurran por él. Podrá el dueño, en consecuencia, construir dentro de su propiedad, estanques, pantanos, cisternas o aljibes donde conservarlas al efecto, o emplear para ello cualquier otro medio adecuado, siempre que no cause perjuicio al público ni a tercero\u201d\n\n",
 "copyrightText": "Desarrollo Territorial",
 "supportsDynamicLayers": true,
 "layers": [
  {
   "id": 0,
   "name": "Aguas de Dominio Público",
   "parentLayerId": -1,
   "defaultVisibility": true,
   "subLayerIds": null,
   "minScale": 0,
   "maxScale": 0,
   "type": "Feature Layer",
   "geometryType": "esriGeometryPolyline",
   "supportsDynamicLegends": true
  }
 ],
 "tables": [],
 "spatialReference": {
  "wkid": 8908,
  "latestWkid": 8908,
  "xyTolerance": 0.001,
  "zTolerance": 0.001,
  "mTolerance": 0.001,
  "falseX": -5122600,
  "falseY": -10001100,
  "xyUnits": 10000,
  "falseZ": -100000,
  "zUnits": 10000,
  "falseM": -100000,
  "mUnits": 10000
 },
 "singleFusedMapCache": true,
 "tileInfo": {
  "rows": 256,
  "cols": 256,
  "dpi": 96,
  "format": "PNG",
  "compressionQuality": 75,
  "origin": {
   "x": -5122600,
   "y": 9.00709924374099E11
  },
  "spatialReference": {
   "wkid": 8908,
   "latestWkid": 8908,
   "xyTolerance": 0.001,
   "zTolerance": 0.001,
   "mTolerance": 0.001,
   "falseX": -5122600,
   "falseY": -10001100,
   "xyUnits": 10000,
   "falseZ": -100000,
   "zUnits": 10000,
   "falseM": -100000,
   "mUnits": 10000
  },
  "lods": [
   {
    "level": 0,
    "resolution": 16.933367200067735,
    "scale": 64000
   },
   {
    "level": 1,
    "resolution": 8.466683600033868,
    "scale": 32000
   },
   {
    "level": 2,
    "resolution": 4.233341800016934,
    "scale": 16000
   },
   {
    "level": 3,
    "resolution": 2.116670900008467,
    "scale": 8000
   },
   {
    "level": 4,
    "resolution": 0.26458386250105836,
    "scale": 1000
   }
  ]
 },
 "storageInfo": {
  "storageFormat": "esriMapCacheStorageModeCompactV2",
  "packetSize": 128
 },
 "initialExtent": {
  "xmin": 481967.5658511131,
  "ymin": 1099907.533001945,
  "xmax": 488546.0097870022,
  "ymax": 1108508.5096217683,
  "spatialReference": {
   "wkid": 8908,
   "latestWkid": 8908,
   "xyTolerance": 0.001,
   "zTolerance": 0.001,
   "mTolerance": 0.001,
   "falseX": -5122600,
   "falseY": -10001100,
   "xyUnits": 10000,
   "falseZ": -100000,
   "zUnits": 10000,
   "falseM": -100000,
   "mUnits": 10000
  }
 },
 "fullExtent": {
  "xmin": 481946.2252,
  "ymin": 1101269.1983,
  "xmax": 488087.5872,
  "ymax": 1107571.8125,
  "spatialReference": {
   "wkid": 8908,
   "latestWkid": 8908,
   "xyTolerance": 0.001,
   "zTolerance": 0.001,
   "mTolerance": 0.001,
   "falseX": -5122600,
   "falseY": -10001100,
   "xyUnits": 10000,
   "falseZ": -100000,
   "zUnits": 10000,
   "falseM": -100000,
   "mUnits": 10000
  }
 },
 "datesInUnknownTimezone": false,
 "minScale": 72095.72042141491,
 "maxScale": 4505.982526338432,
 "units": "esriMeters",
 "supportedImageFormatTypes": "PNG32,PNG24,PNG,JPG,DIB,TIFF,EMF,PS,PDF,GIF,SVG,SVGZ,BMP",
 "documentInfo": {
  "Title": "HEREDIA.aprx",
  "Author": "",
  "Comments": "Levantamiento del Corredor Accesible en los cuatro distritos centrales del cantón Heredia.\nDesarrollo Territorial",
  "Subject": "Levantamiento del Corredor Accesible en los cuatro distritos centrales del cantón Heredia",
  "Category": "",
  "Version": "3.1.0",
  "AntialiasingMode": "Fast",
  "TextAntialiasingMode": "Force",
  "Keywords": "Aguas,dominio público"
 },
 "supportsQueryDomains": true,
 "capabilities": "Map,Query,Data",
 "supportedQueryFormats": "JSON, geoJSON, PBF",
 "hasVersionedData": true,
 "exportTilesAllowed": false,
 "referenceScale": 0.0,
 "supportsDatumTransformation": true,
 "floorAwareMapProperties": {
  "defaultFloorFilterSettings": {
   "isEnabled": false
  }
 },
 "archivingInfo": {
  "supportsHistoricMoment": false
 },
 "supportsClipping": true,
 "supportsSpatialFilter": true,
 "supportsTimeRelation": true,
 "supportsQueryDataElements": true,
 "mapUnits": {
  "uwkid": 9001
 },
 "maxRecordCount": 1000,
 "maxImageHeight": 4096,
 "maxImageWidth": 4096,
 "supportedExtensions": "KmlServer",
 "resampling": false,
 "serviceItemId": "e6a9eb93d78b46b8803036f1af417091"
}
